BEGIN:VCALENDAR
VERSION:2.0
PRODID:-//Plone.org//NONSGML plone.app.event//EN
X-WR-TIMEZONE:Europe/Madrid
BEGIN:VEVENT
SUMMARY:Exposición- Signos de frontera: obra inédita
DTSTART;VALUE=DATE:20240909
DTEND;VALUE=DATE:20241007
DTSTAMP;VALUE=DATE-TIME:20260422T215355Z
UID:7183d86e3d344774944edee840229fbf@www.paeria.cat
CATEGORIES:Exposiciones,Cultura
CREATED;VALUE=DATE-TIME:20240903T104526Z
LAST-MODIFIED;VALUE=DATE-TIME:20240903T135619Z
URL:https://www.paeria.cat/es/actualidad/agenda/exposicion-signos-de-front
 era-obra-inedita
END:VEVENT
END:VCALENDAR
