BEGIN:VCALENDAR
VERSION:2.0
PRODID:-//Plone.org//NONSGML plone.app.event//EN
X-WR-TIMEZONE:Europe/Madrid
BEGIN:VEVENT
SUMMARY:Exposición- Somos tres: la luna\, yo y la sombra que me sigue
DTSTART;VALUE=DATE:20240502
DTEND;VALUE=DATE:20240531
DTSTAMP;VALUE=DATE-TIME:20260422T170117Z
UID:fb78195b99464f56ad25f3bdaac08f38@www.paeria.cat
CATEGORIES:Exposiciones,Cultura
CREATED;VALUE=DATE-TIME:20240429T103413Z
LAST-MODIFIED;VALUE=DATE-TIME:20240429T103419Z
URL:https://www.paeria.cat/es/actualidad/agenda/exposicion-somos-tres-la-l
 una-yo-y-la-sombra-que-me-sigue
END:VEVENT
END:VCALENDAR
