BEGIN:VCALENDAR
VERSION:2.0
PRODID:-//Plone.org//NONSGML plone.app.event//EN
X-WR-TIMEZONE:Europe/Madrid
BEGIN:VEVENT
SUMMARY:Exposición- Visca la terra! 50 anys d’Unió de Pagesos
DTSTART;VALUE=DATE:20240405
DTEND;VALUE=DATE:20240429
DTSTAMP;VALUE=DATE-TIME:20260422T113807Z
UID:e76cf1ae976b48e0bfbe882e7ba9cffe@www.paeria.cat
CATEGORIES:Exposiciones,Cultura
CREATED;VALUE=DATE-TIME:20240404T065146Z
LAST-MODIFIED;VALUE=DATE-TIME:20240404T065159Z
URL:https://www.paeria.cat/es/actualidad/agenda/exposicion-visca-la-terra-
 50-anys-d2019unio-de-pagesos
END:VEVENT
END:VCALENDAR
