BEGIN:VCALENDAR
VERSION:2.0
PRODID:-//Plone.org//NONSGML plone.app.event//EN
X-WR-TIMEZONE:Europe/Madrid
BEGIN:VEVENT
SUMMARY:EXTREMAS DERECHAS 2.0: QUÉ SON Y POR QUÉ REPRESENTAN UNA AMENAZA
  PARA NUESTRAS DEMOCRACIAS
DTSTART;TZID=Europe/Madrid;VALUE=DATE-TIME:20240314T190000
DTSTAMP;VALUE=DATE-TIME:20260422T170226Z
UID:557c18533fb7433a8b2d7be1b4a454ec@www.paeria.cat
CATEGORIES:Charlas y conferencias
CREATED;VALUE=DATE-TIME:20240307T111201Z
DESCRIPTION:DEBATES DE MEMORIA
LAST-MODIFIED;VALUE=DATE-TIME:20240311T094343Z
URL:https://www.paeria.cat/es/actualidad/agenda/extremas-derechas-2-0-que-
 son-y-por-que-representan-una-amenaza-para-nuestras-democracias
END:VEVENT
BEGIN:VTIMEZONE
TZID:Europe/Madrid
X-LIC-LOCATION:Europe/Madrid
BEGIN:STANDARD
DTSTART;VALUE=DATE-TIME:20231029T020000
TZNAME:CET
TZOFFSETFROM:+0200
TZOFFSETTO:+0100
END:STANDARD
END:VTIMEZONE
END:VCALENDAR
