BEGIN:VCALENDAR
VERSION:2.0
PRODID:-//Plone.org//NONSGML plone.app.event//EN
X-WR-TIMEZONE:Europe/Madrid
BEGIN:VEVENT
SUMMARY:FEDERICO GARCÍA LORCA\, UN POETA CON ALMA DE MÚSICO
DTSTART;TZID=Europe/Madrid;VALUE=DATE-TIME:20230718T190000
DTSTAMP;VALUE=DATE-TIME:20260423T052052Z
UID:0243432e27f745619660eae39586fd50@www.paeria.cat
CATEGORIES:Charlas y conferencias,Público
CREATED;VALUE=DATE-TIME:20230710T103412Z
DESCRIPTION:Memoria Democrática
LAST-MODIFIED;VALUE=DATE-TIME:20230711T083900Z
URL:https://www.paeria.cat/es/actualidad/agenda/federico-garcia-lorca-un-p
 oeta-con-alma-de-musico
END:VEVENT
BEGIN:VTIMEZONE
TZID:Europe/Madrid
X-LIC-LOCATION:Europe/Madrid
BEGIN:DAYLIGHT
DTSTART;VALUE=DATE-TIME:20230326T030000
TZNAME:CEST
TZOFFSETFROM:+0100
TZOFFSETTO:+0200
END:DAYLIGHT
END:VTIMEZONE
END:VCALENDAR
