BEGIN:VCALENDAR
VERSION:2.0
PRODID:-//Plone.org//NONSGML plone.app.event//EN
X-WR-TIMEZONE:Europe/Madrid
BEGIN:VEVENT
SUMMARY:Festival de Artes en Vivo ENRE9
DTSTART;TZID=Europe/Madrid;VALUE=DATE-TIME:20230518T090000
DTEND;TZID=Europe/Madrid;VALUE=DATE-TIME:20230521T220000
DTSTAMP;VALUE=DATE-TIME:20260421T102450Z
UID:6304ae1a526b498aaedeb48dfcb22415@www.paeria.cat
CREATED;VALUE=DATE-TIME:20230517T122028Z
DESCRIPTION:¡Vuelve el Enre9\, el festival de artes en vivo de la Zona9 d
 e Lleida! Del 18 al 21 de mayo\, plazas y calles se llenan de circo\, teat
 ro\, danza\, juegos\, talleres\, música\, cultura popular y muchas cosas 
 más. Más de 50 propuestas gratuitas en Mariola\, Turó de Gardeny y Bloc
 s Joan Carles.
LAST-MODIFIED;VALUE=DATE-TIME:20231031T135840Z
URL:https://www.paeria.cat/es/actualidad/agenda/festival-de-artes-en-vivo-
 enre9
END:VEVENT
BEGIN:VTIMEZONE
TZID:Europe/Madrid
X-LIC-LOCATION:Europe/Madrid
BEGIN:DAYLIGHT
DTSTART;VALUE=DATE-TIME:20230326T030000
TZNAME:CEST
TZOFFSETFROM:+0100
TZOFFSETTO:+0200
END:DAYLIGHT
END:VTIMEZONE
END:VCALENDAR
