BEGIN:VCALENDAR
VERSION:2.0
PRODID:-//Plone.org//NONSGML plone.app.event//EN
X-WR-TIMEZONE:Europe/Madrid
BEGIN:VEVENT
SUMMARY:FESTIVAL DE VALSOS Y DANZAS. ORQUESTA SINFÓNICA DEL VALLÈS
DTSTART;TZID=Europe/Madrid;VALUE=DATE-TIME:20241227T200000
DTEND;TZID=Europe/Madrid;VALUE=DATE-TIME:20241227T213000
DTSTAMP;VALUE=DATE-TIME:20260420T010223Z
UID:29149298bcef4c48921ad3503266e12d@www.paeria.cat
CREATED;VALUE=DATE-TIME:20240709T112533Z
LAST-MODIFIED;VALUE=DATE-TIME:20241121T080223Z
URL:https://www.paeria.cat/es/actualidad/agenda/festival-de-valsos-y-danza
 s-orquesta-sinfonica-del-valles
END:VEVENT
BEGIN:VTIMEZONE
TZID:Europe/Madrid
X-LIC-LOCATION:Europe/Madrid
BEGIN:STANDARD
DTSTART;VALUE=DATE-TIME:20241027T020000
TZNAME:CET
TZOFFSETFROM:+0200
TZOFFSETTO:+0100
END:STANDARD
END:VTIMEZONE
END:VCALENDAR
