BEGIN:VCALENDAR
VERSION:2.0
PRODID:-//Plone.org//NONSGML plone.app.event//EN
X-WR-TIMEZONE:Europe/Madrid
BEGIN:VEVENT
SUMMARY:Fiesta de Inicio de LaTemporada "Vallverqué? ¡Vallverdú!" con B
 erta Puigdemasa y Alba Godoy
DTSTART;TZID=Europe/Madrid;VALUE=DATE-TIME:20230924T120000
DTEND;TZID=Europe/Madrid;VALUE=DATE-TIME:20230924T130000
DTSTAMP;VALUE=DATE-TIME:20260422T134055Z
UID:78581e1f4e16400eac5e978e3276ceac@www.paeria.cat
CATEGORIES:Música,Tots els públics,Cultura
CREATED;VALUE=DATE-TIME:20230912T100918Z
DESCRIPTION:Espectáculo que tendrá lugar en los Jardines Primero de Mayo
  (barrio de la Mariola\, zona 9)
LAST-MODIFIED;VALUE=DATE-TIME:20260202T125816Z
URL:https://www.paeria.cat/es/actualidad/agenda/fiesta-de-inicio-de-latemp
 orada-vallverque-valverdu-con-berta-puigdemasa-y-alba-godoy
END:VEVENT
BEGIN:VTIMEZONE
TZID:Europe/Madrid
X-LIC-LOCATION:Europe/Madrid
BEGIN:DAYLIGHT
DTSTART;VALUE=DATE-TIME:20230326T030000
TZNAME:CEST
TZOFFSETFROM:+0100
TZOFFSETTO:+0200
END:DAYLIGHT
END:VTIMEZONE
END:VCALENDAR
