BEGIN:VCALENDAR
VERSION:2.0
PRODID:-//Plone.org//NONSGML plone.app.event//EN
X-WR-TIMEZONE:Europe/Madrid
BEGIN:VEVENT
SUMMARY:FIESTA DEL PARQUE DE LA MITJANA
DTSTART;TZID=Europe/Madrid;VALUE=DATE-TIME:20250601T100000
DTEND;TZID=Europe/Madrid;VALUE=DATE-TIME:20250601T200000
DTSTAMP;VALUE=DATE-TIME:20260420T013333Z
UID:f1190ea8eb3f49cf85a95b8ca55e1b12@www.paeria.cat
CATEGORIES:Todos los públicos,Familiar
CREATED;VALUE=DATE-TIME:20250523T072543Z
DESCRIPTION:Actividades y propuestas deportivas\, lúdicas y educativas pa
 ra este domingo de celebración de la Fiesta del Parque de la Mitjana.
LAST-MODIFIED;VALUE=DATE-TIME:20250526T103914Z
URL:https://www.paeria.cat/es/actualidad/agenda/fiesta-del-parque-de-la-mi
 tjana
END:VEVENT
BEGIN:VTIMEZONE
TZID:Europe/Madrid
X-LIC-LOCATION:Europe/Madrid
BEGIN:DAYLIGHT
DTSTART;VALUE=DATE-TIME:20250330T030000
TZNAME:CEST
TZOFFSETFROM:+0100
TZOFFSETTO:+0200
END:DAYLIGHT
END:VTIMEZONE
END:VCALENDAR
