BEGIN:VCALENDAR
VERSION:2.0
PRODID:-//Plone.org//NONSGML plone.app.event//EN
X-WR-TIMEZONE:Europe/Madrid
BEGIN:VEVENT
SUMMARY:Francesco Tristano. Piano & electronics. Ciclo Piano\, piano
DTSTART;TZID=Europe/Madrid;VALUE=DATE-TIME:20260417T210000
DTEND;TZID=Europe/Madrid;VALUE=DATE-TIME:20260417T221000
DTSTAMP;VALUE=DATE-TIME:20260423T164139Z
UID:7d0a7c8c06124d0484e1028bc2e8ced2@www.paeria.cat
CREATED;VALUE=DATE-TIME:20260306T074507Z
DESCRIPTION:Año Viñes. Concierto gratuíto que tendrá lugar en la nave 
 central de la Seu Vella
LAST-MODIFIED;VALUE=DATE-TIME:20260331T112607Z
URL:https://www.paeria.cat/es/actualidad/agenda/francesco-tristano-piano-e
 lectronicos-ciclo-piano-piano
END:VEVENT
BEGIN:VTIMEZONE
TZID:Europe/Madrid
X-LIC-LOCATION:Europe/Madrid
BEGIN:DAYLIGHT
DTSTART;VALUE=DATE-TIME:20260329T030000
TZNAME:CEST
TZOFFSETFROM:+0100
TZOFFSETTO:+0200
END:DAYLIGHT
END:VTIMEZONE
END:VCALENDAR
