BEGIN:VCALENDAR
VERSION:2.0
PRODID:-//Plone.org//NONSGML plone.app.event//EN
X-WR-TIMEZONE:Europe/Madrid
BEGIN:VEVENT
SUMMARY:GAMMA. Festival de Arte Urbano de Lleida
DTSTART;TZID=Europe/Madrid;VALUE=DATE-TIME:20250929T100000
DTEND;TZID=Europe/Madrid;VALUE=DATE-TIME:20251005T200000
DTSTAMP;VALUE=DATE-TIME:20260422T150629Z
UID:e24d05c8c9b4407aaa034bb7b02db650@www.paeria.cat
CATEGORIES:Tots els públics,Art
CREATED;VALUE=DATE-TIME:20250904T091409Z
LAST-MODIFIED;VALUE=DATE-TIME:20250919T110428Z
URL:https://www.paeria.cat/es/actualidad/agenda/gamma-festival-de-arte-urb
 ano-de-lleida
END:VEVENT
BEGIN:VTIMEZONE
TZID:Europe/Madrid
X-LIC-LOCATION:Europe/Madrid
BEGIN:DAYLIGHT
DTSTART;VALUE=DATE-TIME:20250330T030000
TZNAME:CEST
TZOFFSETFROM:+0100
TZOFFSETTO:+0200
END:DAYLIGHT
END:VTIMEZONE
END:VCALENDAR
