BEGIN:VCALENDAR
VERSION:2.0
PRODID:-//Plone.org//NONSGML plone.app.event//EN
X-WR-TIMEZONE:Europe/Madrid
BEGIN:VEVENT
SUMMARY:Garrotín. Actívate en el Casal 2022-2023
DTSTART;TZID=Europe/Madrid;VALUE=DATE-TIME:20230207T173000
DTEND;TZID=Europe/Madrid;VALUE=DATE-TIME:20230207T193000
DTSTAMP;VALUE=DATE-TIME:20260423T072808Z
UID:78ec858d40494c389bda139bbdc0b02f@www.paeria.cat
CATEGORIES:Danza,Deportes,Mujer,Salud,Talleres y cursos
CREATED;VALUE=DATE-TIME:20221212T123122Z
DESCRIPTION:Encuentro de mujeres para el aprendizaje y la promoción de es
 te baile genuinamente leridano\, como fuente de vitalidad\, energía y opt
 imismo y para la recuperación de este patrimonio cultural de la ciudad.
LAST-MODIFIED;VALUE=DATE-TIME:20240509T071110Z
URL:https://www.paeria.cat/es/actualidad/agenda/garrotin-activate-en-el-ca
 sal-2022-2023/2023-02-07
END:VEVENT
BEGIN:VTIMEZONE
TZID:Europe/Madrid
X-LIC-LOCATION:Europe/Madrid
BEGIN:STANDARD
DTSTART;VALUE=DATE-TIME:20221030T020000
TZNAME:CET
TZOFFSETFROM:+0200
TZOFFSETTO:+0100
END:STANDARD
END:VTIMEZONE
END:VCALENDAR
