BEGIN:VCALENDAR
VERSION:2.0
PRODID:-//Plone.org//NONSGML plone.app.event//EN
X-WR-TIMEZONE:Europe/Madrid
BEGIN:VEVENT
SUMMARY:Geometría de la desigualdad
DTSTART;TZID=Europe/Madrid;VALUE=DATE-TIME:20260313T130000
DTEND;TZID=Europe/Madrid;VALUE=DATE-TIME:20260313T140000
DTSTAMP;VALUE=DATE-TIME:20260422T133909Z
UID:519a3a6426c848198c15456996971772@www.paeria.cat
CATEGORIES:Empleo,Talleres y cursos
CREATED;VALUE=DATE-TIME:20260305T142836Z
DESCRIPTION:Dinámica participativa en el exterior para sensibilizar sobre
  las situaciones de desigualdad que se dan en el contexto laboral.
LAST-MODIFIED;VALUE=DATE-TIME:20260306T085822Z
URL:https://www.paeria.cat/es/actualidad/agenda/geometria-de-la-desigualda
 d
END:VEVENT
BEGIN:VTIMEZONE
TZID:Europe/Madrid
X-LIC-LOCATION:Europe/Madrid
BEGIN:STANDARD
DTSTART;VALUE=DATE-TIME:20251026T020000
TZNAME:CET
TZOFFSETFROM:+0200
TZOFFSETTO:+0100
END:STANDARD
END:VTIMEZONE
END:VCALENDAR
