BEGIN:VCALENDAR
VERSION:2.0
PRODID:-//Plone.org//NONSGML plone.app.event//EN
X-WR-TIMEZONE:Europe/Madrid
BEGIN:VEVENT
SUMMARY:Gran Concierto Benéfico dedicado a los Tres Años de Guerra a gra
 n escala en Ucrania.
DTSTART;TZID=Europe/Madrid;VALUE=DATE-TIME:20250226T193000
DTEND;TZID=Europe/Madrid;VALUE=DATE-TIME:20250226T210000
DTSTAMP;VALUE=DATE-TIME:20260423T022809Z
UID:604e115bcd244819b6e04774b75abf7d@www.paeria.cat
CATEGORIES:Ciudadanía,Familiar,Música,Todos los públicos
CREATED;VALUE=DATE-TIME:20250217T131147Z
DESCRIPTION:Os invitamos a venir\, disfrutar de música de alta calidad y 
 también colaborar con la iniciativa de la Asociación Cultural Ucraniana 
 "Girasol" Lleida\, en el Auditori Enric Granados. Todo el dinero recaudado
  se destinará a un Centro Especializado con el trabajo con los niños que
  perdieron a sus madres ya sus padres en la guerra. Las entradas se pueden
  comprar en los lugares indicados en el cartel\, también antes del concie
 rto en el mismo Auditori. Quien no pueda asistir pero quiere colaborar tam
 bién hay Fila 0 y el número de la cuenta bancaria de nuestra Asociación
 . ¡Os esperamos!
LAST-MODIFIED;VALUE=DATE-TIME:20250225T122545Z
URL:https://www.paeria.cat/es/actualidad/agenda/gran-concierto-benefico-de
 dicado-a-los-tres-anos-de-guerra-a-gran-escala-en-ucrania
END:VEVENT
BEGIN:VTIMEZONE
TZID:Europe/Madrid
X-LIC-LOCATION:Europe/Madrid
BEGIN:STANDARD
DTSTART;VALUE=DATE-TIME:20241027T020000
TZNAME:CET
TZOFFSETFROM:+0200
TZOFFSETTO:+0100
END:STANDARD
END:VTIMEZONE
END:VCALENDAR
