BEGIN:VCALENDAR
VERSION:2.0
PRODID:-//Plone.org//NONSGML plone.app.event//EN
X-WR-TIMEZONE:Europe/Madrid
BEGIN:VEVENT
SUMMARY:Hermafroditas a caballo o la rebelión del deseo
DTSTART;TZID=Europe/Madrid;VALUE=DATE-TIME:20251009T200000
DTEND;TZID=Europe/Madrid;VALUE=DATE-TIME:20251009T210000
DTSTAMP;VALUE=DATE-TIME:20260422T135144Z
UID:ab6403f3db4a4f2f8bb6f0b5a10ab5c2@www.paeria.cat
CREATED;VALUE=DATE-TIME:20250707T114227Z
LAST-MODIFIED;VALUE=DATE-TIME:20250714T121754Z
URL:https://www.paeria.cat/es/actualidad/agenda/hermafrodites-a-cavall-o-l
 a-rebel-lio-del-desig-colectivo-que-no-salga-de-aqui
END:VEVENT
BEGIN:VTIMEZONE
TZID:Europe/Madrid
X-LIC-LOCATION:Europe/Madrid
BEGIN:DAYLIGHT
DTSTART;VALUE=DATE-TIME:20250330T030000
TZNAME:CEST
TZOFFSETFROM:+0100
TZOFFSETTO:+0200
END:DAYLIGHT
END:VTIMEZONE
END:VCALENDAR
