BEGIN:VCALENDAR
VERSION:2.0
PRODID:-//Plone.org//NONSGML plone.app.event//EN
X-WR-TIMEZONE:Europe/Madrid
BEGIN:VEVENT
SUMMARY:HIT ME IF I'M PRETTY o la princesa moderna con JUANA DOLORES
DTSTART;TZID=Europe/Madrid;VALUE=DATE-TIME:20241003T210000
DTEND;TZID=Europe/Madrid;VALUE=DATE-TIME:20241003T220000
DTSTAMP;VALUE=DATE-TIME:20260423T022503Z
UID:None
CREATED;VALUE=DATE-TIME:20240719T112113Z
LAST-MODIFIED;VALUE=DATE-TIME:20241002T072532Z
URL:https://www.paeria.cat/es/actualidad/agenda/hit-me-if-im-pretty-o-la-p
 rincesa-moderna-con-juana-dolores
END:VEVENT
BEGIN:VTIMEZONE
TZID:Europe/Madrid
X-LIC-LOCATION:Europe/Madrid
BEGIN:DAYLIGHT
DTSTART;VALUE=DATE-TIME:20240331T030000
TZNAME:CEST
TZOFFSETFROM:+0100
TZOFFSETTO:+0200
END:DAYLIGHT
END:VTIMEZONE
END:VCALENDAR
