BEGIN:VCALENDAR
VERSION:2.0
PRODID:-//Plone.org//NONSGML plone.app.event//EN
X-WR-TIMEZONE:Europe/Madrid
BEGIN:VEVENT
SUMMARY:Hora del cuento "Familias a la carta: un menú de historias cotidi
 anas"
DTSTART;TZID=Europe/Madrid;VALUE=DATE-TIME:20260220T173000
DTEND;TZID=Europe/Madrid;VALUE=DATE-TIME:20260220T183000
DTSTAMP;VALUE=DATE-TIME:20260422T133315Z
UID:4ce9463bf66a4feea7538bff8151e11a@www.paeria.cat
CREATED;VALUE=DATE-TIME:20260210T100025Z
DESCRIPTION:Con Nada Puede Malir Sal
LAST-MODIFIED;VALUE=DATE-TIME:20260217T155342Z
URL:https://www.paeria.cat/es/actualidad/agenda/hora-del-cuento-familias-a
 -la-carta-un-menu-de-historias-cotidianas
END:VEVENT
BEGIN:VTIMEZONE
TZID:Europe/Madrid
X-LIC-LOCATION:Europe/Madrid
BEGIN:STANDARD
DTSTART;VALUE=DATE-TIME:20251026T020000
TZNAME:CET
TZOFFSETFROM:+0200
TZOFFSETTO:+0100
END:STANDARD
END:VTIMEZONE
END:VCALENDAR
