BEGIN:VCALENDAR
VERSION:2.0
PRODID:-//Plone.org//NONSGML plone.app.event//EN
X-WR-TIMEZONE:Europe/Madrid
BEGIN:VEVENT
SUMMARY:Hora del cuento: L'arbre de sucre con Ada Cusidó
DTSTART;TZID=Europe/Madrid;VALUE=DATE-TIME:20231213T173000
DTEND;TZID=Europe/Madrid;VALUE=DATE-TIME:20231213T183000
DTSTAMP;VALUE=DATE-TIME:20260425T230306Z
UID:5d840ae0109442a9b22692fbc52fcfdc@www.paeria.cat
CATEGORIES:Cultura,Infantil
CREATED;VALUE=DATE-TIME:20231110T110939Z
DESCRIPTION:Una historia donde pasearemos por las distintas estaciones del
  año\, veremos como cambia el paisaje y como cambiamos nosotros! \n\nEspe
 ctáculo para niños y niñas a partir de 3 años.
LAST-MODIFIED;VALUE=DATE-TIME:20251105T073047Z
URL:https://www.paeria.cat/es/actualidad/agenda/hora-del-cuento-larbre-de-
 sucre-con-ada-cusido
END:VEVENT
BEGIN:VTIMEZONE
TZID:Europe/Madrid
X-LIC-LOCATION:Europe/Madrid
BEGIN:STANDARD
DTSTART;VALUE=DATE-TIME:20231029T020000
TZNAME:CET
TZOFFSETFROM:+0200
TZOFFSETTO:+0100
END:STANDARD
END:VTIMEZONE
END:VCALENDAR
