BEGIN:VCALENDAR
VERSION:2.0
PRODID:-//Plone.org//NONSGML plone.app.event//EN
X-WR-TIMEZONE:Europe/Madrid
BEGIN:VEVENT
SUMMARY:i aleshores... l’AMOR es va fer VERS!
DTSTART;TZID=Europe/Madrid;VALUE=DATE-TIME:20260421T190000
DTEND;TZID=Europe/Madrid;VALUE=DATE-TIME:20260421T210000
DTSTAMP;VALUE=DATE-TIME:20260423T183717Z
UID:9370cfef9afb463086f6328309b6f6da@www.paeria.cat
CATEGORIES:Cultura,Libros y literatura
CREATED;VALUE=DATE-TIME:20260306T122909Z
DESCRIPTION:Programa de Sant Jordi -- Acción literaria multidisciplinar q
 ue reflexiona\, con poesía\, canciones y música en directo\, sobre la am
 plitud del amor\, como tema universal en la literatura y en la vida.
LAST-MODIFIED;VALUE=DATE-TIME:20260420T090731Z
URL:https://www.paeria.cat/es/actualidad/agenda/i-aleshores-l2019amor-es-v
 a-fer-vers
END:VEVENT
BEGIN:VTIMEZONE
TZID:Europe/Madrid
X-LIC-LOCATION:Europe/Madrid
BEGIN:DAYLIGHT
DTSTART;VALUE=DATE-TIME:20260329T030000
TZNAME:CEST
TZOFFSETFROM:+0100
TZOFFSETTO:+0200
END:DAYLIGHT
END:VTIMEZONE
END:VCALENDAR
