BEGIN:VCALENDAR
VERSION:2.0
PRODID:-//Plone.org//NONSGML plone.app.event//EN
X-WR-TIMEZONE:Europe/Madrid
BEGIN:VEVENT
SUMMARY:II CHARLA INFORMATIVA SOBRE EL NUEVO REGLAMENTO DE LA LEY DE EXTRA
 NJERÍA
DTSTART;TZID=Europe/Madrid;VALUE=DATE-TIME:20250507T100000
DTSTAMP;VALUE=DATE-TIME:20260420T160800Z
UID:834117db8ad74ee9884e6f7a8548c69b@www.paeria.cat
CATEGORIES:Charlas y conferencias
CREATED;VALUE=DATE-TIME:20250425T081753Z
LAST-MODIFIED;VALUE=DATE-TIME:20250505T094543Z
URL:https://www.paeria.cat/es/actualidad/agenda/ii-charla-informativa-sobr
 e-el-nuevo-reglamento-de-la-ley-de-extranjeria
END:VEVENT
BEGIN:VTIMEZONE
TZID:Europe/Madrid
X-LIC-LOCATION:Europe/Madrid
BEGIN:DAYLIGHT
DTSTART;VALUE=DATE-TIME:20250330T030000
TZNAME:CEST
TZOFFSETFROM:+0100
TZOFFSETTO:+0200
END:DAYLIGHT
END:VTIMEZONE
END:VCALENDAR
