BEGIN:VCALENDAR
VERSION:2.0
PRODID:-//Plone.org//NONSGML plone.app.event//EN
X-WR-TIMEZONE:Europe/Madrid
BEGIN:VEVENT
SUMMARY:III CHARLA INFORMATIVA SOBRE EL NUEVO REGLAMENTO DE LA LEY DE EXTR
 ANJERÍA
DTSTART;TZID=Europe/Madrid;VALUE=DATE-TIME:20251114T100000
DTSTAMP;VALUE=DATE-TIME:20260421T100534Z
UID:35376abb367a4fe6a831d201dbe6f0af@www.paeria.cat
CATEGORIES:Charlas y conferencias
CREATED;VALUE=DATE-TIME:20251023T110651Z
LAST-MODIFIED;VALUE=DATE-TIME:20251104T134549Z
URL:https://www.paeria.cat/es/actualidad/agenda/iii-charla-informativa-sob
 re-el-nuevo-reglamento-de-la-ley-de-extranjeria
END:VEVENT
BEGIN:VTIMEZONE
TZID:Europe/Madrid
X-LIC-LOCATION:Europe/Madrid
BEGIN:STANDARD
DTSTART;VALUE=DATE-TIME:20251026T020000
TZNAME:CET
TZOFFSETFROM:+0200
TZOFFSETTO:+0100
END:STANDARD
END:VTIMEZONE
END:VCALENDAR
