BEGIN:VCALENDAR
VERSION:2.0
PRODID:-//Plone.org//NONSGML plone.app.event//EN
X-WR-TIMEZONE:Europe/Madrid
BEGIN:VEVENT
SUMMARY:Inauguración de la exposición-10 años del Premio Fotográfico F
 eminista. Mujeres y Fotoperiodismo
DTSTART;TZID=Europe/Madrid;VALUE=DATE-TIME:20241118T180000
DTSTAMP;VALUE=DATE-TIME:20260422T194511Z
UID:c4678ccaffb644218cd1b360b8d3a3f0@www.paeria.cat
CATEGORIES:Cultura,Exposiciones
CREATED;VALUE=DATE-TIME:20241116T151647Z
LAST-MODIFIED;VALUE=DATE-TIME:20250514T131237Z
URL:https://www.paeria.cat/es/actualidad/agenda/inauguracion-de-la-exposic
 ion-10-anos-del-premio-fotografico-feminista-mujeres-y-fotoperiodismo
END:VEVENT
BEGIN:VTIMEZONE
TZID:Europe/Madrid
X-LIC-LOCATION:Europe/Madrid
BEGIN:STANDARD
DTSTART;VALUE=DATE-TIME:20241027T020000
TZNAME:CET
TZOFFSETFROM:+0200
TZOFFSETTO:+0100
END:STANDARD
END:VTIMEZONE
END:VCALENDAR
