BEGIN:VCALENDAR
VERSION:2.0
PRODID:-//Plone.org//NONSGML plone.app.event//EN
X-WR-TIMEZONE:Europe/Madrid
BEGIN:VEVENT
SUMMARY:Inauguración de la exposición colectiva- Dona i Terra
DTSTART;TZID=Europe/Madrid;VALUE=DATE-TIME:20240309T190000
DTSTAMP;VALUE=DATE-TIME:20260422T145157Z
UID:95347236dac747ef997316addd45bddc@www.paeria.cat
CATEGORIES:Exposiciones,Cultura
CREATED;VALUE=DATE-TIME:20240227T092808Z
LAST-MODIFIED;VALUE=DATE-TIME:20240227T094143Z
URL:https://www.paeria.cat/es/actualidad/agenda/inauguracion-de-la-exposic
 ion-colectiva-dona-i-terra
END:VEVENT
BEGIN:VTIMEZONE
TZID:Europe/Madrid
X-LIC-LOCATION:Europe/Madrid
BEGIN:STANDARD
DTSTART;VALUE=DATE-TIME:20231029T020000
TZNAME:CET
TZOFFSETFROM:+0200
TZOFFSETTO:+0100
END:STANDARD
END:VTIMEZONE
END:VCALENDAR
