BEGIN:VCALENDAR
VERSION:2.0
PRODID:-//Plone.org//NONSGML plone.app.event//EN
X-WR-TIMEZONE:Europe/Madrid
BEGIN:VEVENT
SUMMARY:Inauguración de la exposición fotográfica- Estimat diari
DTSTART;TZID=Europe/Madrid;VALUE=DATE-TIME:20240705T190000
DTSTAMP;VALUE=DATE-TIME:20260422T185701Z
UID:17ca303e2ae341f3b6fa4d7c30abc152@www.paeria.cat
CATEGORIES:Exposiciones,Arte,Cultura
CREATED;VALUE=DATE-TIME:20240701T150853Z
LAST-MODIFIED;VALUE=DATE-TIME:20240701T150906Z
URL:https://www.paeria.cat/es/actualidad/agenda/inauguracion-de-la-exposic
 ion-fotografica-estimat-diari
END:VEVENT
BEGIN:VTIMEZONE
TZID:Europe/Madrid
X-LIC-LOCATION:Europe/Madrid
BEGIN:DAYLIGHT
DTSTART;VALUE=DATE-TIME:20240331T030000
TZNAME:CEST
TZOFFSETFROM:+0100
TZOFFSETTO:+0200
END:DAYLIGHT
END:VTIMEZONE
END:VCALENDAR
