BEGIN:VCALENDAR
VERSION:2.0
PRODID:-//Plone.org//NONSGML plone.app.event//EN
X-WR-TIMEZONE:Europe/Madrid
BEGIN:VEVENT
SUMMARY:Inauguración de la exposición fotográfica- Marionetas
DTSTART;TZID=Europe/Madrid;VALUE=DATE-TIME:20240906T190000
DTSTAMP;VALUE=DATE-TIME:20260422T170218Z
UID:c792721c56b54c4bac4ec19990ec6e13@www.paeria.cat
CATEGORIES:Cultura,Exposiciones
CREATED;VALUE=DATE-TIME:20240903T101256Z
LAST-MODIFIED;VALUE=DATE-TIME:20250514T131204Z
URL:https://www.paeria.cat/es/actualidad/agenda/inauguracion-de-la-exposic
 ion-fotografica-marionetas
END:VEVENT
BEGIN:VTIMEZONE
TZID:Europe/Madrid
X-LIC-LOCATION:Europe/Madrid
BEGIN:DAYLIGHT
DTSTART;VALUE=DATE-TIME:20240331T030000
TZNAME:CEST
TZOFFSETFROM:+0100
TZOFFSETTO:+0200
END:DAYLIGHT
END:VTIMEZONE
END:VCALENDAR
