BEGIN:VCALENDAR
VERSION:2.0
PRODID:-//Plone.org//NONSGML plone.app.event//EN
X-WR-TIMEZONE:Europe/Madrid
BEGIN:VEVENT
SUMMARY:Inauguración del nuevo ciclo expositivo en el Centre d'Art La Pan
 era
DTSTART;TZID=Europe/Madrid;VALUE=DATE-TIME:20240224T120000
DTSTAMP;VALUE=DATE-TIME:20260422T101207Z
UID:f2709a361d854e4db4c12e4a6822de37@www.paeria.cat
CATEGORIES:Exposiciones,Cultura
CREATED;VALUE=DATE-TIME:20240223T112528Z
LAST-MODIFIED;VALUE=DATE-TIME:20240223T114314Z
URL:https://www.paeria.cat/es/actualidad/agenda/inauguracion-del-nuevo-cic
 lo-expositivo-en-el-centre-dart-la-panera
END:VEVENT
BEGIN:VTIMEZONE
TZID:Europe/Madrid
X-LIC-LOCATION:Europe/Madrid
BEGIN:STANDARD
DTSTART;VALUE=DATE-TIME:20231029T020000
TZNAME:CET
TZOFFSETFROM:+0200
TZOFFSETTO:+0100
END:STANDARD
END:VTIMEZONE
END:VCALENDAR
