BEGIN:VCALENDAR
VERSION:2.0
PRODID:-//Plone.org//NONSGML plone.app.event//EN
X-WR-TIMEZONE:Europe/Madrid
BEGIN:VEVENT
SUMMARY:INAUGURACIÓN DEL PANEL DE MEMORIA “LAS CASETAS DE GARDÉN”
DTSTART;TZID=Europe/Madrid;VALUE=DATE-TIME:20251130T110000
DTSTAMP;VALUE=DATE-TIME:20260423T034424Z
UID:689493c679af45c69f8495f99f619eab@www.paeria.cat
CREATED;VALUE=DATE-TIME:20251125T112722Z
DESCRIPTION:-ESPACIOS DE MEMORIA-
LAST-MODIFIED;VALUE=DATE-TIME:20251125T112729Z
URL:https://www.paeria.cat/es/actualidad/agenda/inauguracion-del-panel-de-
 memoria-201clas-casetas-de-garden201d
END:VEVENT
BEGIN:VTIMEZONE
TZID:Europe/Madrid
X-LIC-LOCATION:Europe/Madrid
BEGIN:STANDARD
DTSTART;VALUE=DATE-TIME:20251026T020000
TZNAME:CET
TZOFFSETFROM:+0200
TZOFFSETTO:+0100
END:STANDARD
END:VTIMEZONE
END:VCALENDAR
