BEGIN:VCALENDAR
VERSION:2.0
PRODID:-//Plone.org//NONSGML plone.app.event//EN
X-WR-TIMEZONE:Europe/Madrid
BEGIN:VEVENT
SUMMARY:Interpretación poético-musical de Riu avall con Xavier y Amat Ba
 ró
DTSTART;TZID=Europe/Madrid;VALUE=DATE-TIME:20240531T190000
DTSTAMP;VALUE=DATE-TIME:20260422T081653Z
UID:7d0aa85385ab4a3f8dd9cc54f7e42d7b@www.paeria.cat
CATEGORIES:Libros y literatura,Música,Cultura
CREATED;VALUE=DATE-TIME:20240508T070347Z
LAST-MODIFIED;VALUE=DATE-TIME:20240508T070359Z
URL:https://www.paeria.cat/es/actualidad/agenda/interpretacion-poetico-mus
 ical-de-riu-avall-con-xavier-y-amat-baro
END:VEVENT
BEGIN:VTIMEZONE
TZID:Europe/Madrid
X-LIC-LOCATION:Europe/Madrid
BEGIN:DAYLIGHT
DTSTART;VALUE=DATE-TIME:20240331T030000
TZNAME:CEST
TZOFFSETFROM:+0100
TZOFFSETTO:+0200
END:DAYLIGHT
END:VTIMEZONE
END:VCALENDAR
