BEGIN:VCALENDAR
VERSION:2.0
PRODID:-//Plone.org//NONSGML plone.app.event//EN
X-WR-TIMEZONE:Europe/Madrid
BEGIN:VEVENT
SUMMARY:ITINERARIO: NORMANDIA\, EL DESEMBARCO 1944-2024 // MÚSICA DEGENER
 ADA INTERPRETADA POR PIXIE & DIXIE Y JAM SESSION CON LOS REBELDES DEL SWIN
 G
DTSTART;TZID=Europe/Madrid;VALUE=DATE-TIME:20240608T200000
DTSTAMP;VALUE=DATE-TIME:20260422T145312Z
UID:f0d6a022234a435c9252915917ce703b@www.paeria.cat
CATEGORIES:Itinerarios y visitas
CREATED;VALUE=DATE-TIME:20240513T111724Z
DESCRIPTION:ITINERARIOS PARA LA RECUPERACIÓN DE LA MEMORIA DEMOCRÁTICA D
 E LLEIDA
LAST-MODIFIED;VALUE=DATE-TIME:20240603T091320Z
URL:https://www.paeria.cat/es/actualidad/agenda/itinerario-normandia-el-de
 sembarco-1944-2024-musica-degenerada-interpretada-por-pixie-dixie
END:VEVENT
BEGIN:VTIMEZONE
TZID:Europe/Madrid
X-LIC-LOCATION:Europe/Madrid
BEGIN:DAYLIGHT
DTSTART;VALUE=DATE-TIME:20240331T030000
TZNAME:CEST
TZOFFSETFROM:+0100
TZOFFSETTO:+0200
END:DAYLIGHT
END:VTIMEZONE
END:VCALENDAR
