BEGIN:VCALENDAR
VERSION:2.0
PRODID:-//Plone.org//NONSGML plone.app.event//EN
X-WR-TIMEZONE:Europe/Madrid
BEGIN:VEVENT
SUMMARY:ITINERARIO: RUTA PARA LA LIMPIEZA DE LOS ADOQUINES STOLPERSTEINE D
 E LA CIUDAD DE LLEIDA
DTSTART;TZID=Europe/Madrid;VALUE=DATE-TIME:20240519T100000
DTSTAMP;VALUE=DATE-TIME:20260422T170033Z
UID:30095d61a5a547dcba8ad05a14fc241f@www.paeria.cat
CATEGORIES:Itinerarios y visitas
CREATED;VALUE=DATE-TIME:20240510T083118Z
DESCRIPTION:Itinerario
LAST-MODIFIED;VALUE=DATE-TIME:20250514T131337Z
URL:https://www.paeria.cat/es/actualidad/agenda/itinerario-ruta-para-la-li
 mpieza-de-los-adoquines-stolpersteine-de-la-ciudad-de-lleida
END:VEVENT
BEGIN:VTIMEZONE
TZID:Europe/Madrid
X-LIC-LOCATION:Europe/Madrid
BEGIN:DAYLIGHT
DTSTART;VALUE=DATE-TIME:20240331T030000
TZNAME:CEST
TZOFFSETFROM:+0100
TZOFFSETTO:+0200
END:DAYLIGHT
END:VTIMEZONE
END:VCALENDAR
