BEGIN:VCALENDAR
VERSION:2.0
PRODID:-//Plone.org//NONSGML plone.app.event//EN
X-WR-TIMEZONE:Europe/Madrid
BEGIN:VEVENT
SUMMARY:JAZZTARDOR- Concierto Soul Chemistry feat. Erena Terakubo
DTSTART;TZID=Europe/Madrid;VALUE=DATE-TIME:20241109T220000
DTSTAMP;VALUE=DATE-TIME:20260423T052512Z
UID:904b2a30a96c491e8d10c33fe4af05ec@www.paeria.cat
CATEGORIES:Cultura,Música
CREATED;VALUE=DATE-TIME:20241105T074314Z
LAST-MODIFIED;VALUE=DATE-TIME:20250514T132011Z
URL:https://www.paeria.cat/es/actualidad/agenda/jazztardor-concierto-soul-
 chemistry-feat-erena-terakubo
END:VEVENT
BEGIN:VTIMEZONE
TZID:Europe/Madrid
X-LIC-LOCATION:Europe/Madrid
BEGIN:STANDARD
DTSTART;VALUE=DATE-TIME:20241027T020000
TZNAME:CET
TZOFFSETFROM:+0200
TZOFFSETTO:+0100
END:STANDARD
END:VTIMEZONE
END:VCALENDAR
