BEGIN:VCALENDAR
VERSION:2.0
PRODID:-//Plone.org//NONSGML plone.app.event//EN
X-WR-TIMEZONE:Europe/Madrid
BEGIN:VEVENT
SUMMARY:JAZZTARDOR- Meet Mr. Rabbit. Legacy of Johnny Hodges Frank Robersc
 heuten & Enric Peidro Quintet
DTSTART;TZID=Europe/Madrid;VALUE=DATE-TIME:20241124T200000
DTSTAMP;VALUE=DATE-TIME:20260422T135958Z
UID:936471105cfa48199c6ae40aa8c60ea6@www.paeria.cat
CATEGORIES:Cultura,Música
CREATED;VALUE=DATE-TIME:20241120T155846Z
LAST-MODIFIED;VALUE=DATE-TIME:20250514T132011Z
URL:https://www.paeria.cat/es/actualidad/agenda/jazztardor-meet-mr-rabbit-
 legacy-of-johnny-hodges-frank-roberscheuten-enric-peidro-quintet
END:VEVENT
BEGIN:VTIMEZONE
TZID:Europe/Madrid
X-LIC-LOCATION:Europe/Madrid
BEGIN:STANDARD
DTSTART;VALUE=DATE-TIME:20241027T020000
TZNAME:CET
TZOFFSETFROM:+0200
TZOFFSETTO:+0100
END:STANDARD
END:VTIMEZONE
END:VCALENDAR
