BEGIN:VCALENDAR
VERSION:2.0
PRODID:-//Plone.org//NONSGML plone.app.event//EN
X-WR-TIMEZONE:Europe/Madrid
BEGIN:VEVENT
SUMMARY:"JOB DATING": MONITORES DEPORTIVOS
DTSTART;TZID=Europe/Madrid;VALUE=DATE-TIME:20250528T180000
DTEND;TZID=Europe/Madrid;VALUE=DATE-TIME:20250528T200000
DTSTAMP;VALUE=DATE-TIME:20260423T051935Z
UID:8e64e30efd294e198abfbc10daa893ae@www.paeria.cat
CATEGORIES:Empleo,Jóvenes
CREATED;VALUE=DATE-TIME:20250312T133932Z
DESCRIPTION:Participa en una breve entrevista personal diseñada para pres
 entarte ante varias empresas del sector deportivo. Este evento de job dati
 ng te permitirá hacer contactos directos con reclutadores\, mostrar tus h
 abilidades e intereses\, y explorar oportunidades laborales en un entorno 
 dinámico y profesional
LAST-MODIFIED;VALUE=DATE-TIME:20250526T085918Z
URL:https://www.paeria.cat/es/actualidad/agenda/job-dating-monitores-depor
 tivos
END:VEVENT
BEGIN:VTIMEZONE
TZID:Europe/Madrid
X-LIC-LOCATION:Europe/Madrid
BEGIN:DAYLIGHT
DTSTART;VALUE=DATE-TIME:20250330T030000
TZNAME:CEST
TZOFFSETFROM:+0100
TZOFFSETTO:+0200
END:DAYLIGHT
END:VTIMEZONE
END:VCALENDAR
