BEGIN:VCALENDAR
VERSION:2.0
PRODID:-//Plone.org//NONSGML plone.app.event//EN
X-WR-TIMEZONE:Europe/Madrid
BEGIN:VEVENT
SUMMARY:JORNADA DE ARTES ESCÉNICAS Y MUSICALES - laCultivadora. Actividad
 es 360
DTSTART;TZID=Europe/Madrid;VALUE=DATE-TIME:20260110T090000
DTEND;TZID=Europe/Madrid;VALUE=DATE-TIME:20260110T140000
DTSTAMP;VALUE=DATE-TIME:20260422T185854Z
UID:d3ee57039f484919a1d639ca664359a7@www.paeria.cat
CATEGORIES:Cultura,Talleres y cursos,Música,Teatro,Danza
CREATED;VALUE=DATE-TIME:20251202T084228Z
DESCRIPTION:Dirigido a maestros y profesionales de la educación
LAST-MODIFIED;VALUE=DATE-TIME:20251209T134556Z
URL:https://www.paeria.cat/es/actualidad/agenda/jornada-de-artes-escenicas
 -y-musicales-lacultivadora-actividades-360
END:VEVENT
BEGIN:VTIMEZONE
TZID:Europe/Madrid
X-LIC-LOCATION:Europe/Madrid
BEGIN:STANDARD
DTSTART;VALUE=DATE-TIME:20251026T020000
TZNAME:CET
TZOFFSETFROM:+0200
TZOFFSETTO:+0100
END:STANDARD
END:VTIMEZONE
END:VCALENDAR
