BEGIN:VCALENDAR
VERSION:2.0
PRODID:-//Plone.org//NONSGML plone.app.event//EN
X-WR-TIMEZONE:Europe/Madrid
BEGIN:VEVENT
SUMMARY:Jornada- Nuevos retos en la investigación biomédica
DTSTART;TZID=Europe/Madrid;VALUE=DATE-TIME:20241010T180000
DTSTAMP;VALUE=DATE-TIME:20260422T104000Z
UID:5bc9bb346b38434ba5dc86b3152d6ccf@www.paeria.cat
CATEGORIES:Charlas y conferencias,Cultura
CREATED;VALUE=DATE-TIME:20240927T095053Z
LAST-MODIFIED;VALUE=DATE-TIME:20250514T132055Z
URL:https://www.paeria.cat/es/actualidad/agenda/jornada-nuevos-retos-en-la
 -investigacion-biomedica
END:VEVENT
BEGIN:VTIMEZONE
TZID:Europe/Madrid
X-LIC-LOCATION:Europe/Madrid
BEGIN:DAYLIGHT
DTSTART;VALUE=DATE-TIME:20240331T030000
TZNAME:CEST
TZOFFSETFROM:+0100
TZOFFSETTO:+0200
END:DAYLIGHT
END:VTIMEZONE
END:VCALENDAR
