BEGIN:VCALENDAR
VERSION:2.0
PRODID:-//Plone.org//NONSGML plone.app.event//EN
X-WR-TIMEZONE:Europe/Madrid
BEGIN:VEVENT
SUMMARY:JORNADAS DE PATRIMONIO. Templario por un día en el Castillo de Ga
 rdeny.
DTSTART;TZID=Europe/Madrid;VALUE=DATE-TIME:20251012T120000
DTEND;TZID=Europe/Madrid;VALUE=DATE-TIME:20251012T133000
DTSTAMP;VALUE=DATE-TIME:20260422T190150Z
UID:929c9525215c403988e5b3186de87e9a@www.paeria.cat
CREATED;VALUE=DATE-TIME:20250927T104718Z
DESCRIPTION:Visita dinamizada al Castillo de Gardeny para conocer de prime
 ra mano cómo era la vida de un caballero templario. Entrada gratuita en e
 l marco de las Jornadas Europeas de Patrimonio.
LAST-MODIFIED;VALUE=DATE-TIME:20250927T104727Z
URL:https://www.paeria.cat/es/actualidad/agenda/jornadas-de-patrimonio-tem
 plario-por-un-dia-en-el-castillo-de-gardeny
END:VEVENT
BEGIN:VTIMEZONE
TZID:Europe/Madrid
X-LIC-LOCATION:Europe/Madrid
BEGIN:DAYLIGHT
DTSTART;VALUE=DATE-TIME:20250330T030000
TZNAME:CEST
TZOFFSETFROM:+0100
TZOFFSETTO:+0200
END:DAYLIGHT
END:VTIMEZONE
END:VCALENDAR
