BEGIN:VCALENDAR
VERSION:2.0
PRODID:-//Plone.org//NONSGML plone.app.event//EN
X-WR-TIMEZONE:Europe/Madrid
BEGIN:VEVENT
SUMMARY:Kit básico de búsqueda de empleo: currículum\, competencias y c
 artas de presentación
DTSTART;TZID=Europe/Madrid;VALUE=DATE-TIME:20260421T103000
DTEND;TZID=Europe/Madrid;VALUE=DATE-TIME:20260421T123000
DTSTAMP;VALUE=DATE-TIME:20260426T031336Z
UID:15d4dd6a957441c88b1f107bdc822468@www.paeria.cat
CATEGORIES:Charlas y conferencias,Empleo,Talleres y cursos
CREATED;VALUE=DATE-TIME:20260305T112721Z
DESCRIPTION:Para enfrentarse al proceso de buscar un trabajo es esencial d
 isponer de una buena "caja de herramientas" con todo lo imprescindible par
 a conseguir nuestro objetivo. En este taller trabajaremos los contenidos c
 lave necesarios para que nuestra investigación sea un éxito: el currícu
 lum\, las competencias y las cartas de presentación. Servei Ocupacció. P
 índoles per a la recerca de feina.
LAST-MODIFIED;VALUE=DATE-TIME:20260305T112757Z
URL:https://www.paeria.cat/es/actualidad/agenda/kit-basico-de-busqueda-de-
 empleo-curriculum-competencias-y-cartas-de-presentacion
END:VEVENT
BEGIN:VTIMEZONE
TZID:Europe/Madrid
X-LIC-LOCATION:Europe/Madrid
BEGIN:DAYLIGHT
DTSTART;VALUE=DATE-TIME:20260329T030000
TZNAME:CEST
TZOFFSETFROM:+0100
TZOFFSETTO:+0200
END:DAYLIGHT
END:VTIMEZONE
END:VCALENDAR
