BEGIN:VCALENDAR
VERSION:2.0
PRODID:-//Plone.org//NONSGML plone.app.event//EN
X-WR-TIMEZONE:Europe/Madrid
BEGIN:VEVENT
SUMMARY:La Balada de Solé Sugranyes. Ópera de bolsillo de polifonías tr
 adicionales
DTSTART;TZID=Europe/Madrid;VALUE=DATE-TIME:20231203T190000
DTEND;TZID=Europe/Madrid;VALUE=DATE-TIME:20231203T200000
DTSTAMP;VALUE=DATE-TIME:20260423T031235Z
UID:39c956ea465741e2b972e65ee5d47c65@www.paeria.cat
CATEGORIES:Cultura popular,Música,Públic,Cultura
CREATED;VALUE=DATE-TIME:20230717T110015Z
DESCRIPTION:Al modo de una de las antiguas baladas tradicionales\, el argu
 mento recorre los tres últimos años de la vida del militante anarquista 
 Oriol Solé Sugranyes\, y su muerte a tiros en la montaña de Sorogain\, a
  punto de atravesar la raya de Francia en abril de 1976.
LAST-MODIFIED;VALUE=DATE-TIME:20260202T125741Z
URL:https://www.paeria.cat/es/actualidad/agenda/la-balada-de-sole-sugranye
 s-opera-de-bolsillo-de-polifonias-tradicionales
END:VEVENT
BEGIN:VTIMEZONE
TZID:Europe/Madrid
X-LIC-LOCATION:Europe/Madrid
BEGIN:STANDARD
DTSTART;VALUE=DATE-TIME:20231029T020000
TZNAME:CET
TZOFFSETFROM:+0200
TZOFFSETTO:+0100
END:STANDARD
END:VTIMEZONE
END:VCALENDAR
