BEGIN:VCALENDAR
VERSION:2.0
PRODID:-//Plone.org//NONSGML plone.app.event//EN
X-WR-TIMEZONE:Europe/Madrid
BEGIN:VEVENT
SUMMARY:LA BIBLIOTECA DE LA CURIOSIDAD INFINITA. MARGA SOCIAS
DTSTART;TZID=Europe/Madrid;VALUE=DATE-TIME:20241019T173000
DTEND;TZID=Europe/Madrid;VALUE=DATE-TIME:20241019T183000
DTSTAMP;VALUE=DATE-TIME:20260422T150632Z
UID:None
CREATED;VALUE=DATE-TIME:20240719T113109Z
LAST-MODIFIED;VALUE=DATE-TIME:20241014T143108Z
URL:https://www.paeria.cat/es/actualidad/agenda/la-biblioteca-de-la-curios
 idad-infinita-marga-socias
END:VEVENT
BEGIN:VTIMEZONE
TZID:Europe/Madrid
X-LIC-LOCATION:Europe/Madrid
BEGIN:DAYLIGHT
DTSTART;VALUE=DATE-TIME:20240331T030000
TZNAME:CEST
TZOFFSETFROM:+0100
TZOFFSETTO:+0200
END:DAYLIGHT
END:VTIMEZONE
END:VCALENDAR
