BEGIN:VCALENDAR
VERSION:2.0
PRODID:-//Plone.org//NONSGML plone.app.event//EN
X-WR-TIMEZONE:Europe/Madrid
BEGIN:VEVENT
SUMMARY:La ciudad con la mirada de las mujeres. Actívate en el Casal 2022
 -2023
DTSTART;TZID=Europe/Madrid;VALUE=DATE-TIME:20230426T173000
DTEND;TZID=Europe/Madrid;VALUE=DATE-TIME:20230426T193000
DTSTAMP;VALUE=DATE-TIME:20260423T022358Z
UID:dccf61ad5411446faab6276db0252c05@www.paeria.cat
CATEGORIES:Mujer,Turista,Itinerarios y visitas
CREATED;VALUE=DATE-TIME:20221214T135248Z
DESCRIPTION:Visitas guiadas por la ciudad y sus equipamientos sociales y c
 ulturales con la mirada puesta en la presencia\, protagonismo y aportacion
 es de las mujeres a lo largo de la historia.
LAST-MODIFIED;VALUE=DATE-TIME:20240509T071551Z
URL:https://www.paeria.cat/es/actualidad/agenda/la-ciudad-con-la-mirada-de
 -las-mujeres-activate-en-el-casal-2022-2023/2023-04-26
END:VEVENT
BEGIN:VTIMEZONE
TZID:Europe/Madrid
X-LIC-LOCATION:Europe/Madrid
BEGIN:DAYLIGHT
DTSTART;VALUE=DATE-TIME:20230326T030000
TZNAME:CEST
TZOFFSETFROM:+0100
TZOFFSETTO:+0200
END:DAYLIGHT
END:VTIMEZONE
END:VCALENDAR
