BEGIN:VCALENDAR
VERSION:2.0
PRODID:-//Plone.org//NONSGML plone.app.event//EN
X-WR-TIMEZONE:Europe/Madrid
BEGIN:VEVENT
SUMMARY:La ciudad con la mirada de las mujeres. Actívate en el Casal 2022
 -2023
DTSTART;TZID=Europe/Madrid;VALUE=DATE-TIME:20230118T173000
DTEND;TZID=Europe/Madrid;VALUE=DATE-TIME:20230118T193000
DTSTAMP;VALUE=DATE-TIME:20260422T133007Z
UID:dccf61ad5411446faab6276db0252c05@www.paeria.cat
RRULE:FREQ=WEEKLY;UNTIL=20230531T000000;BYDAY=WE
EXDATE;TZID=Europe/Madrid:20230125T000000,20230201T000000,20230208T000000,
 20230222T000000,20230301T000000,20230308T000000,20230315T000000,20230322T0
 00000,20230405T000000,20230412T000000,20230419T000000,20230503T000000,2023
 0510T000000,20230517T000000,20230524T000000
CATEGORIES:Mujer,Turista,Itinerarios y visitas
CREATED;VALUE=DATE-TIME:20221214T135248Z
DESCRIPTION:Visitas guiadas por la ciudad y sus equipamientos sociales y c
 ulturales con la mirada puesta en la presencia\, protagonismo y aportacion
 es de las mujeres a lo largo de la historia.
LAST-MODIFIED;VALUE=DATE-TIME:20240509T071551Z
URL:https://www.paeria.cat/es/actualidad/agenda/la-ciudad-con-la-mirada-de
 -las-mujeres-activate-en-el-casal-2022-2023
END:VEVENT
BEGIN:VTIMEZONE
TZID:Europe/Madrid
X-LIC-LOCATION:Europe/Madrid
BEGIN:STANDARD
DTSTART;VALUE=DATE-TIME:20221030T020000
TZNAME:CET
TZOFFSETFROM:+0200
TZOFFSETTO:+0100
END:STANDARD
END:VTIMEZONE
END:VCALENDAR
