BEGIN:VCALENDAR
VERSION:2.0
PRODID:-//Plone.org//NONSGML plone.app.event//EN
X-WR-TIMEZONE:Europe/Madrid
BEGIN:VEVENT
SUMMARY:La entrevista de trabajo
DTSTART;TZID=Europe/Madrid;VALUE=DATE-TIME:20260317T103000
DTEND;TZID=Europe/Madrid;VALUE=DATE-TIME:20260317T123000
DTSTAMP;VALUE=DATE-TIME:20260423T051336Z
UID:e2ea6fb9121c45e38fff94f2d43c71b0@www.paeria.cat
CATEGORIES:Charlas y conferencias,Empleo,Talleres y cursos
CREATED;VALUE=DATE-TIME:20260305T104816Z
DESCRIPTION:Trabajaremos los conocimientos básicos para enfrentarte a uno
  de los momentos primordiales del proceso de búsqueda de empleo: la entre
 vista. Aprenderás todo lo que hace falta saber sobre las fases\, las preg
 untas más habituales\, la comunicación verbal y no verbal\, y en definit
 iva\, las claves del éxito para superar la entrevista de trabajo. ¡Es co
 nveniente aportar el currículum personal en el momento de la inscripción
  para poder hacer la sesión más práctica\, participativa y más interes
 ante para ti! Servicio Empleo. Píldoras para la búsqueda de empleo
LAST-MODIFIED;VALUE=DATE-TIME:20260305T113258Z
URL:https://www.paeria.cat/es/actualidad/agenda/la-entrevista-de-trabajo-1
END:VEVENT
BEGIN:VTIMEZONE
TZID:Europe/Madrid
X-LIC-LOCATION:Europe/Madrid
BEGIN:STANDARD
DTSTART;VALUE=DATE-TIME:20251026T020000
TZNAME:CET
TZOFFSETFROM:+0200
TZOFFSETTO:+0100
END:STANDARD
END:VTIMEZONE
END:VCALENDAR
