BEGIN:VCALENDAR
VERSION:2.0
PRODID:-//Plone.org//NONSGML plone.app.event//EN
X-WR-TIMEZONE:Europe/Madrid
BEGIN:VEVENT
SUMMARY:LA GUERRA CIVIL EN EL FIN DE PUENTE DE BALAGUER: EL MORINYOL Y LAS
  TRINCHERAS DE MONTGAI.
DTSTART;TZID=Europe/Madrid;VALUE=DATE-TIME:20230319T100000
DTSTAMP;VALUE=DATE-TIME:20260422T190147Z
UID:1654a17ec0ac4ea280a9700be7810281@www.paeria.cat
CREATED;VALUE=DATE-TIME:20230314T121206Z
DESCRIPTION:Itinerarios para la recuperación de la Memoria Democrática d
 e Lleida.
LAST-MODIFIED;VALUE=DATE-TIME:20230315T124325Z
URL:https://www.paeria.cat/es/actualidad/agenda/la-guerra-civil-en-el-fin-
 de-puente-de-balaguer-el-morinyol-y-las-trincheras-de-montgai
END:VEVENT
BEGIN:VTIMEZONE
TZID:Europe/Madrid
X-LIC-LOCATION:Europe/Madrid
BEGIN:STANDARD
DTSTART;VALUE=DATE-TIME:20221030T020000
TZNAME:CET
TZOFFSETFROM:+0200
TZOFFSETTO:+0100
END:STANDARD
END:VTIMEZONE
END:VCALENDAR
