BEGIN:VCALENDAR
VERSION:2.0
PRODID:-//Plone.org//NONSGML plone.app.event//EN
X-WR-TIMEZONE:Europe/Madrid
BEGIN:VEVENT
SUMMARY:LA GUERRA SE ACABA... EMPIEZA LA VICTORIA. LA DICTADURA FRANQUISTA
DTSTART;TZID=Europe/Madrid;VALUE=DATE-TIME:20250424T190000
DTSTAMP;VALUE=DATE-TIME:20260422T122011Z
UID:cfb088fc7e3745bd92647c4dabf6a5d2@www.paeria.cat
CATEGORIES:Todos los públicos,Charlas y conferencias
CREATED;VALUE=DATE-TIME:20250417T103040Z
DESCRIPTION:DEBATES DE MEMORIA
LAST-MODIFIED;VALUE=DATE-TIME:20250417T103216Z
URL:https://www.paeria.cat/es/actualidad/agenda/la-guerra-se-acaba-empieza
 -la-victoria-la-dictadura-franquista
END:VEVENT
BEGIN:VTIMEZONE
TZID:Europe/Madrid
X-LIC-LOCATION:Europe/Madrid
BEGIN:DAYLIGHT
DTSTART;VALUE=DATE-TIME:20250330T030000
TZNAME:CEST
TZOFFSETFROM:+0100
TZOFFSETTO:+0200
END:DAYLIGHT
END:VTIMEZONE
END:VCALENDAR
