BEGIN:VCALENDAR
VERSION:2.0
PRODID:-//Plone.org//NONSGML plone.app.event//EN
X-WR-TIMEZONE:Europe/Madrid
BEGIN:VEVENT
SUMMARY:La Noche de los Museos en el Roda Roda: El cuerpo de bomberos de L
 leida
DTSTART;TZID=Europe/Madrid;VALUE=DATE-TIME:20240518T200000
DTEND;TZID=Europe/Madrid;VALUE=DATE-TIME:20240518T210000
DTSTAMP;VALUE=DATE-TIME:20260422T145306Z
UID:0b05be7496ef4facb6946e3bcaaf073a@www.paeria.cat
CATEGORIES:Charlas y conferencias,Exposiciones
CREATED;VALUE=DATE-TIME:20240513T114015Z
DESCRIPTION:Charla a cargo de Leonard Jové\, bombero y historiador\, sobr
 e el servicio de bomberos en Lleida\, su historia\, evolución y hechos de
 stacados\, peimero como servicio municipal y hoy integrado en los Bombers 
 de la Generalitat.
LAST-MODIFIED;VALUE=DATE-TIME:20240513T114054Z
URL:https://www.paeria.cat/es/actualidad/agenda/la-noche-de-los-museos-en-
 el-roda-roda-el-cuerpo-de-bomberos-de-lleida
END:VEVENT
BEGIN:VTIMEZONE
TZID:Europe/Madrid
X-LIC-LOCATION:Europe/Madrid
BEGIN:DAYLIGHT
DTSTART;VALUE=DATE-TIME:20240331T030000
TZNAME:CEST
TZOFFSETFROM:+0100
TZOFFSETTO:+0200
END:DAYLIGHT
END:VTIMEZONE
END:VCALENDAR
