BEGIN:VCALENDAR
VERSION:2.0
PRODID:-//Plone.org//NONSGML plone.app.event//EN
X-WR-TIMEZONE:Europe/Madrid
BEGIN:VEVENT
SUMMARY:Larga Marcha Internacionalista\, de la entidad Ponent amb Kurdist
 án
DTSTART;TZID=Europe/Madrid;VALUE=DATE-TIME:20230125T190000
DTEND;TZID=Europe/Madrid;VALUE=DATE-TIME:20230125T200000
DTSTAMP;VALUE=DATE-TIME:20260422T201253Z
UID:5e8da1a501a24bf88e0467022da1dac0@www.paeria.cat
CATEGORIES:Charlas y conferencias,Ciudadanía,Público
CREATED;VALUE=DATE-TIME:20230124T094516Z
DESCRIPTION:Acto simbólico en reivindicación de la lucha kurda. Acto anu
 al\, gratuito y abierto a toda la ciudadanía\, organizado por "Ponent amb
  Kurdistan". La rueda de prensa tendrá lugar este miércoles 25 de enero 
 a las 19h\, en la Sala Paulo Freire\, de la Concejalía de Educación\, Co
 operación\, Derechos Civiles y Feminismos.
LAST-MODIFIED;VALUE=DATE-TIME:20250514T114703Z
URL:https://www.paeria.cat/es/actualidad/agenda/larga-marcha-internacional
 ista-de-la-entidad-ponent-con-kurdistan
END:VEVENT
BEGIN:VTIMEZONE
TZID:Europe/Madrid
X-LIC-LOCATION:Europe/Madrid
BEGIN:STANDARD
DTSTART;VALUE=DATE-TIME:20221030T020000
TZNAME:CET
TZOFFSETFROM:+0200
TZOFFSETTO:+0100
END:STANDARD
END:VTIMEZONE
END:VCALENDAR
