BEGIN:VCALENDAR
VERSION:2.0
PRODID:-//Plone.org//NONSGML plone.app.event//EN
X-WR-TIMEZONE:Europe/Madrid
BEGIN:VEVENT
SUMMARY:L'ART A L'HORTA. Festival cultural y agroturístico de Lleida- 2º
  fin de semana
DTSTART;TZID=Europe/Madrid;VALUE=DATE-TIME:20240728T110000
DTEND;TZID=Europe/Madrid;VALUE=DATE-TIME:20240728T140000
DTSTAMP;VALUE=DATE-TIME:20260422T102712Z
UID:e835946d8ecf480a8b8cdcfc31d9f67b@www.paeria.cat
CATEGORIES:Todos los públicos,Música,Cultura
CREATED;VALUE=DATE-TIME:20240606T115513Z
DESCRIPTION:Ciclo Verano. Grenyana ( ermita de la Virgen de Grenyana).
LAST-MODIFIED;VALUE=DATE-TIME:20251105T072917Z
URL:https://www.paeria.cat/es/actualidad/agenda/lart-a-lhorta-festival-cul
 tural-y-agroturistico-de-lleida-2o-fin-de-semana-1
END:VEVENT
BEGIN:VTIMEZONE
TZID:Europe/Madrid
X-LIC-LOCATION:Europe/Madrid
BEGIN:DAYLIGHT
DTSTART;VALUE=DATE-TIME:20240331T030000
TZNAME:CEST
TZOFFSETFROM:+0100
TZOFFSETTO:+0200
END:DAYLIGHT
END:VTIMEZONE
END:VCALENDAR
