BEGIN:VCALENDAR
VERSION:2.0
PRODID:-//Plone.org//NONSGML plone.app.event//EN
X-WR-TIMEZONE:Europe/Madrid
BEGIN:VEVENT
SUMMARY:Late Show: la investigación a escena
DTSTART;TZID=Europe/Madrid;VALUE=DATE-TIME:20240927T200000
DTSTAMP;VALUE=DATE-TIME:20260421T052025Z
UID:3a03a98bc7ab44f7bba782df055761ef@www.paeria.cat
CATEGORIES:Charlas y conferencias,Cultura,Ciencias y tecnologías
CREATED;VALUE=DATE-TIME:20240726T141834Z
LAST-MODIFIED;VALUE=DATE-TIME:20250514T110926Z
URL:https://www.paeria.cat/es/actualidad/agenda/late-show-la-investigacion
 -a-escena
END:VEVENT
BEGIN:VTIMEZONE
TZID:Europe/Madrid
X-LIC-LOCATION:Europe/Madrid
BEGIN:DAYLIGHT
DTSTART;VALUE=DATE-TIME:20240331T030000
TZNAME:CEST
TZOFFSETFROM:+0100
TZOFFSETTO:+0200
END:DAYLIGHT
END:VTIMEZONE
END:VCALENDAR
