BEGIN:VCALENDAR
VERSION:2.0
PRODID:-//Plone.org//NONSGML plone.app.event//EN
X-WR-TIMEZONE:Europe/Madrid
BEGIN:VEVENT
SUMMARY:Lleida Jazz Cava- Concierto Carla González\, Pau Lladó y Genís 
 Bagés
DTSTART;TZID=Europe/Madrid;VALUE=DATE-TIME:20241004T220000
DTSTAMP;VALUE=DATE-TIME:20260422T100829Z
UID:cd6fc65ee30b4a5881a523fd90737a20@www.paeria.cat
CATEGORIES:Música,Cultura
CREATED;VALUE=DATE-TIME:20240730T151518Z
LAST-MODIFIED;VALUE=DATE-TIME:20240730T151524Z
URL:https://www.paeria.cat/es/actualidad/agenda/lleida-jazz-cava-concierto
 -carla-gonzalez-pau-llado-y-genis-bages
END:VEVENT
BEGIN:VTIMEZONE
TZID:Europe/Madrid
X-LIC-LOCATION:Europe/Madrid
BEGIN:DAYLIGHT
DTSTART;VALUE=DATE-TIME:20240331T030000
TZNAME:CEST
TZOFFSETFROM:+0100
TZOFFSETTO:+0200
END:DAYLIGHT
END:VTIMEZONE
END:VCALENDAR
