BEGIN:VCALENDAR
VERSION:2.0
PRODID:-//Plone.org//NONSGML plone.app.event//EN
X-WR-TIMEZONE:Europe/Madrid
BEGIN:VEVENT
SUMMARY:Lleida Jazz Cava- Conciertos Alba Armengou\, Ramon Macià y Genís
  Bagés
DTSTART;TZID=Europe/Madrid;VALUE=DATE-TIME:20241122T220000
DTSTAMP;VALUE=DATE-TIME:20260423T051935Z
UID:453083b03f46458ab0337fe43a36300d@www.paeria.cat
CATEGORIES:Música,Cultura
CREATED;VALUE=DATE-TIME:20241118T112902Z
LAST-MODIFIED;VALUE=DATE-TIME:20241118T112912Z
URL:https://www.paeria.cat/es/actualidad/agenda/lleida-jazz-cava-concierto
 s-alba-armengou-ramon-macia-y-genis-bages
END:VEVENT
BEGIN:VTIMEZONE
TZID:Europe/Madrid
X-LIC-LOCATION:Europe/Madrid
BEGIN:STANDARD
DTSTART;VALUE=DATE-TIME:20241027T020000
TZNAME:CET
TZOFFSETFROM:+0200
TZOFFSETTO:+0100
END:STANDARD
END:VTIMEZONE
END:VCALENDAR
